BEGIN:VCALENDAR
VERSION:2.0
PRODID:-//AJD-Deutschland e.V. - ECPv6.15.20//NONSGML v1.0//EN
CALSCALE:GREGORIAN
METHOD:PUBLISH
X-WR-CALNAME:AJD-Deutschland e.V.
X-ORIGINAL-URL:https://www.ajd-deutschland.de
X-WR-CALDESC:Veranstaltungen für AJD-Deutschland e.V.
REFRESH-INTERVAL;VALUE=DURATION:PT1H
X-Robots-Tag:noindex
X-PUBLISHED-TTL:PT1H
BEGIN:VTIMEZONE
TZID:Europe/Berlin
BEGIN:DAYLIGHT
TZOFFSETFROM:+0100
TZOFFSETTO:+0200
TZNAME:CEST
DTSTART:20240331T010000
END:DAYLIGHT
BEGIN:STANDARD
TZOFFSETFROM:+0200
TZOFFSETTO:+0100
TZNAME:CET
DTSTART:20241027T010000
END:STANDARD
BEGIN:DAYLIGHT
TZOFFSETFROM:+0100
TZOFFSETTO:+0200
TZNAME:CEST
DTSTART:20250330T010000
END:DAYLIGHT
BEGIN:STANDARD
TZOFFSETFROM:+0200
TZOFFSETTO:+0100
TZNAME:CET
DTSTART:20251026T010000
END:STANDARD
BEGIN:DAYLIGHT
TZOFFSETFROM:+0100
TZOFFSETTO:+0200
TZNAME:CEST
DTSTART:20260329T010000
END:DAYLIGHT
BEGIN:STANDARD
TZOFFSETFROM:+0200
TZOFFSETTO:+0100
TZNAME:CET
DTSTART:20261025T010000
END:STANDARD
END:VTIMEZONE
BEGIN:VEVENT
DTSTART;TZID=Europe/Berlin:20250727T140000
DTEND;TZID=Europe/Berlin:20250727T140000
DTSTAMP:20260420T184338
CREATED:20250617T124014Z
LAST-MODIFIED:20250617T124057Z
UID:1278-1753624800-1753624800@www.ajd-deutschland.de
SUMMARY:Information Reise in die Dominikanische Republik
DESCRIPTION:Unsere kommende Reise im Frühjahr 2026 wird gerade geplant: momentan schauen wir auf die ersten 14 Tage der Fastenzeit (25.2. bis 11.3.)\, aber mit dem reisebüro habe ich noch nicht sprechen können. Sollte es konkret werden\, schreibe ich in die Runde. Spätestens am 27.7. sollte alles feststehen und wir beginnen die Gruppe zusammen zu stellen. \nWir treffen uns zum Grillen und PLanungsnachmittag. Interessierte sind herzlich willkommen! \nBerthold Wolff
URL:https://www.ajd-deutschland.de/event/information-reise-in-die-dominikanische-republik/
LOCATION:Flohzirkus\, An der Linde 9\, Brühl\, 50321
ATTACH;FMTTYPE=image/png:https://www.ajd-deutschland.de/wp-content/uploads/2025/02/sommerfest2025.png
END:VEVENT
END:VCALENDAR