BEGIN:VCALENDAR
VERSION:2.0
PRODID:-//AJD-Deutschland e.V. - ECPv6.15.20//NONSGML v1.0//EN
CALSCALE:GREGORIAN
METHOD:PUBLISH
X-ORIGINAL-URL:https://www.ajd-deutschland.de
X-WR-CALDESC:Veranstaltungen für AJD-Deutschland e.V.
REFRESH-INTERVAL;VALUE=DURATION:PT1H
X-Robots-Tag:noindex
X-PUBLISHED-TTL:PT1H
BEGIN:VTIMEZONE
TZID:Europe/Berlin
BEGIN:DAYLIGHT
TZOFFSETFROM:+0100
TZOFFSETTO:+0200
TZNAME:CEST
DTSTART:20240331T010000
END:DAYLIGHT
BEGIN:STANDARD
TZOFFSETFROM:+0200
TZOFFSETTO:+0100
TZNAME:CET
DTSTART:20241027T010000
END:STANDARD
BEGIN:DAYLIGHT
TZOFFSETFROM:+0100
TZOFFSETTO:+0200
TZNAME:CEST
DTSTART:20250330T010000
END:DAYLIGHT
BEGIN:STANDARD
TZOFFSETFROM:+0200
TZOFFSETTO:+0100
TZNAME:CET
DTSTART:20251026T010000
END:STANDARD
BEGIN:DAYLIGHT
TZOFFSETFROM:+0100
TZOFFSETTO:+0200
TZNAME:CEST
DTSTART:20260329T010000
END:DAYLIGHT
BEGIN:STANDARD
TZOFFSETFROM:+0200
TZOFFSETTO:+0100
TZNAME:CET
DTSTART:20261025T010000
END:STANDARD
BEGIN:DAYLIGHT
TZOFFSETFROM:+0100
TZOFFSETTO:+0200
TZNAME:CEST
DTSTART:20270328T010000
END:DAYLIGHT
BEGIN:STANDARD
TZOFFSETFROM:+0200
TZOFFSETTO:+0100
TZNAME:CET
DTSTART:20271031T010000
END:STANDARD
END:VTIMEZONE
BEGIN:VEVENT
DTSTART;TZID=Europe/Berlin:20260324T193000
DTEND;TZID=Europe/Berlin:20260324T193000
DTSTAMP:20260420T063748
CREATED:20251126T164203Z
LAST-MODIFIED:20251205T101043Z
UID:1374-1774380600-1774380600@www.ajd-deutschland.de
SUMMARY:Stammtisch Porz
DESCRIPTION:Mitglieder\, Freunde und Förderer des AJD treffen sich regelmäßig zu einem Stammtisch in Porz oder Brühl-Kierberg zum Informations-Austausch und fröhlichen Beisammensein.
URL:https://www.ajd-deutschland.de/event/stammtisch-porz-2/
LOCATION:KATERINA’S GREEK TAVERNE\, Bergerstraße 237\, Köln Porz\, 51145
ATTACH;FMTTYPE=image/jpeg:https://www.ajd-deutschland.de/wp-content/uploads/2023/02/ajd_219.jpg
END:VEVENT
BEGIN:VEVENT
DTSTART;TZID=Europe/Berlin:20260108T193000
DTEND;TZID=Europe/Berlin:20260108T193000
DTSTAMP:20260420T063748
CREATED:20251126T160738Z
LAST-MODIFIED:20251126T162021Z
UID:1366-1767900600-1767900600@www.ajd-deutschland.de
SUMMARY:Stammtisch Brühl
DESCRIPTION:Mitglieder\, Freunde und Förderer des AJD treffen sich regelmäßig zu einem Stammtisch in Porz oder Brühl-Kierberg zum Informations-Austausch und fröhlichen Beisammensein.
URL:https://www.ajd-deutschland.de/event/stammtisch-bruehl-3/
LOCATION:Zur Linde\, An der Linde 2\, Brühl Vochem\, 50321
ATTACH;FMTTYPE=image/jpeg:https://www.ajd-deutschland.de/wp-content/uploads/2023/02/ajd_219.jpg
ORGANIZER;CN="AJD Deutschland e. V":MAILTO:bertholdwolff@netcologne.de
END:VEVENT
BEGIN:VEVENT
DTSTART;TZID=Europe/Berlin:20251118T193000
DTEND;TZID=Europe/Berlin:20251118T203000
DTSTAMP:20260420T063748
CREATED:20250202T153732Z
LAST-MODIFIED:20250202T153732Z
UID:1207-1763494200-1763497800@www.ajd-deutschland.de
SUMMARY:AJD Stammtisch Porz
DESCRIPTION:Mitglieder\, Freunde und Förderer des AJD treffen sich regelmäßig zu einem Stammtisch in Porz oder Brühl-Kierberg zum Informations-Austausch und fröhlichen Beisammensein.
URL:https://www.ajd-deutschland.de/event/ajd-stammtisch-porz/
LOCATION:Restaurant RAAZ\, Frankfurter Str. 571\, Köln Porz\, 51145
ATTACH;FMTTYPE=image/jpeg:https://www.ajd-deutschland.de/wp-content/uploads/2023/02/ajd_219.jpg
ORGANIZER;CN="AJD Deutschland e. V":MAILTO:bertholdwolff@netcologne.de
END:VEVENT
BEGIN:VEVENT
DTSTART;TZID=Europe/Berlin:20250904T193000
DTEND;TZID=Europe/Berlin:20250904T193000
DTSTAMP:20260420T063748
CREATED:20250202T155115Z
LAST-MODIFIED:20251126T155552Z
UID:1212-1757014200-1757014200@www.ajd-deutschland.de
SUMMARY:Stammtisch Brühl
DESCRIPTION:Mitglieder\, Freunde und Förderer des AJD treffen sich regelmäßig zu einem Stammtisch in Porz oder Brühl-Kierberg zum Informations-Austausch und fröhlichen Beisammensein.
URL:https://www.ajd-deutschland.de/event/stammtisch-bruehl-2/
LOCATION:Zur Linde\, An der Linde 2\, Brühl Vochem\, 50321
ATTACH;FMTTYPE=image/jpeg:https://www.ajd-deutschland.de/wp-content/uploads/2023/02/ajd_219.jpg
ORGANIZER;CN="AJD Deutschland e. V":MAILTO:bertholdwolff@netcologne.de
END:VEVENT
BEGIN:VEVENT
DTSTART;TZID=Europe/Berlin:20250727T140000
DTEND;TZID=Europe/Berlin:20250727T140000
DTSTAMP:20260420T063748
CREATED:20250617T124014Z
LAST-MODIFIED:20250617T124057Z
UID:1278-1753624800-1753624800@www.ajd-deutschland.de
SUMMARY:Information Reise in die Dominikanische Republik
DESCRIPTION:Unsere kommende Reise im Frühjahr 2026 wird gerade geplant: momentan schauen wir auf die ersten 14 Tage der Fastenzeit (25.2. bis 11.3.)\, aber mit dem reisebüro habe ich noch nicht sprechen können. Sollte es konkret werden\, schreibe ich in die Runde. Spätestens am 27.7. sollte alles feststehen und wir beginnen die Gruppe zusammen zu stellen. \nWir treffen uns zum Grillen und PLanungsnachmittag. Interessierte sind herzlich willkommen! \nBerthold Wolff
URL:https://www.ajd-deutschland.de/event/information-reise-in-die-dominikanische-republik/
LOCATION:Flohzirkus\, An der Linde 9\, Brühl\, 50321
ATTACH;FMTTYPE=image/png:https://www.ajd-deutschland.de/wp-content/uploads/2025/02/sommerfest2025.png
END:VEVENT
BEGIN:VEVENT
DTSTART;TZID=Europe/Berlin:20250713T170000
DTEND;TZID=Europe/Berlin:20250713T170000
DTSTAMP:20260420T063748
CREATED:20250202T160808Z
LAST-MODIFIED:20250617T114109Z
UID:1216-1752426000-1752426000@www.ajd-deutschland.de
SUMMARY:Sommerfest 2025
DESCRIPTION:AJD-Sommerfest 2025 in Porz. Dort wird es wieder geräucherten FIsch und andere Leckereien geben.
URL:https://www.ajd-deutschland.de/event/sommerfest-2025/
LOCATION:Bistro MAX\, Theodor-Heuss-Straße 3-5\, Köln Porz\, 51149
ATTACH;FMTTYPE=image/png:https://www.ajd-deutschland.de/wp-content/uploads/2025/02/sommerfest2025.png
END:VEVENT
BEGIN:VEVENT
DTSTART;TZID=Europe/Berlin:20250605T193000
DTEND;TZID=Europe/Berlin:20250605T193000
DTSTAMP:20260420T063748
CREATED:20250202T154720Z
LAST-MODIFIED:20250602T141847Z
UID:1209-1749151800-1749151800@www.ajd-deutschland.de
SUMMARY:Stammtisch Brühl
DESCRIPTION:Mitglieder\, Freunde und Förderer des AJD treffen sich regelmäßig zu einem Stammtisch in Porz oder Brühl-Kierberg zum Informations-Austausch und fröhlichen Beisammensein.
URL:https://www.ajd-deutschland.de/event/stammtisch-bruehl/
LOCATION:Zur Linde\, An der Linde 2\, Brühl Vochem\, 50321
ATTACH;FMTTYPE=image/jpeg:https://www.ajd-deutschland.de/wp-content/uploads/2023/02/ajd_219.jpg
ORGANIZER;CN="AJD Deutschland e. V":MAILTO:bertholdwolff@netcologne.de
END:VEVENT
BEGIN:VEVENT
DTSTART;TZID=Europe/Berlin:20250401T193000
DTEND;TZID=Europe/Berlin:20250401T203000
DTSTAMP:20260420T063748
CREATED:20240208T120707Z
LAST-MODIFIED:20250202T152542Z
UID:1067-1743535800-1743539400@www.ajd-deutschland.de
SUMMARY:AJD Stammtisch Porz
DESCRIPTION:Mitglieder\, Freunde und Förderer des AJD treffen sich regelmäßig zu einem Stammtisch in Porz oder Brühl-Kierberg zum Informations-Austausch und fröhlichen Beisammensein.
URL:https://www.ajd-deutschland.de/event/stammtisch-porz/
LOCATION:Restaurant RAAZ\, Frankfurter Str. 571\, Köln Porz\, 51145
ATTACH;FMTTYPE=image/jpeg:https://www.ajd-deutschland.de/wp-content/uploads/2023/02/ajd_219.jpg
ORGANIZER;CN="AJD Deutschland e. V":MAILTO:bertholdwolff@netcologne.de
END:VEVENT
END:VCALENDAR